BEGIN:VCALENDAR
VERSION:2.0
PRODID:-//Fulton Atlanta Community Action Authority - ECPv6.15.20//NONSGML v1.0//EN
CALSCALE:GREGORIAN
METHOD:PUBLISH
X-WR-CALNAME:Fulton Atlanta Community Action Authority
X-ORIGINAL-URL:https://www.facaa.org
X-WR-CALDESC:Events for Fulton Atlanta Community Action Authority
REFRESH-INTERVAL;VALUE=DURATION:PT1H
X-Robots-Tag:noindex
X-PUBLISHED-TTL:PT1H
BEGIN:VTIMEZONE
TZID:America/New_York
BEGIN:DAYLIGHT
TZOFFSETFROM:-0500
TZOFFSETTO:-0400
TZNAME:EDT
DTSTART:20230312T070000
END:DAYLIGHT
BEGIN:STANDARD
TZOFFSETFROM:-0400
TZOFFSETTO:-0500
TZNAME:EST
DTSTART:20231105T060000
END:STANDARD
BEGIN:DAYLIGHT
TZOFFSETFROM:-0500
TZOFFSETTO:-0400
TZNAME:EDT
DTSTART:20240310T070000
END:DAYLIGHT
BEGIN:STANDARD
TZOFFSETFROM:-0400
TZOFFSETTO:-0500
TZNAME:EST
DTSTART:20241103T060000
END:STANDARD
BEGIN:DAYLIGHT
TZOFFSETFROM:-0500
TZOFFSETTO:-0400
TZNAME:EDT
DTSTART:20250309T070000
END:DAYLIGHT
BEGIN:STANDARD
TZOFFSETFROM:-0400
TZOFFSETTO:-0500
TZNAME:EST
DTSTART:20251102T060000
END:STANDARD
END:VTIMEZONE
BEGIN:VEVENT
DTSTART;TZID=America/New_York:20240130T090000
DTEND;TZID=America/New_York:20240130T150000
DTSTAMP:20260422T181720
CREATED:20240103T003347Z
LAST-MODIFIED:20240116T191405Z
UID:3703-1706605200-1706626800@www.facaa.org
SUMMARY:Need Utility Assistance? We're Coming to Atlanta 01.30.2024
DESCRIPTION:Exciting news! We’re coming to your neighborhood! Dr. Grant and the team at FACAA will be at Mt. Vernon Baptist Church to assist and guide those eligible for utility assistance through the LIHEAP program. Be sure to check out the flyer for requirements. We encourage anyone who thinks they may be eligible to come take advantage of this opportunity. ​ \nIt is first come\, first serve! All required documents must be copied and brought for the application process. 
URL:https://www.facaa.org/event/need-utility-assistance-were-coming-to-atlanta-01-30-2024/
LOCATION:Mt. Vernon Baptist Church\, 815 Lynhurst Drive SW\, Atlanta\, GA\, 30311\, United States
CATEGORIES:Utility Assistance
ATTACH;FMTTYPE=image/jpeg:https://www.facaa.org/wp-content/uploads/2024/01/Jan-2024-Schedule-Flyer.jpg
END:VEVENT
END:VCALENDAR