BEGIN:VCALENDAR
VERSION:2.0
PRODID:-//Fulton Atlanta Community Action Authority - ECPv6.15.20//NONSGML v1.0//EN
CALSCALE:GREGORIAN
METHOD:PUBLISH
X-WR-CALNAME:Fulton Atlanta Community Action Authority
X-ORIGINAL-URL:https://www.facaa.org
X-WR-CALDESC:Events for Fulton Atlanta Community Action Authority
REFRESH-INTERVAL;VALUE=DURATION:PT1H
X-Robots-Tag:noindex
X-PUBLISHED-TTL:PT1H
BEGIN:VTIMEZONE
TZID:America/New_York
BEGIN:DAYLIGHT
TZOFFSETFROM:-0500
TZOFFSETTO:-0400
TZNAME:EDT
DTSTART:20220313T070000
END:DAYLIGHT
BEGIN:STANDARD
TZOFFSETFROM:-0400
TZOFFSETTO:-0500
TZNAME:EST
DTSTART:20221106T060000
END:STANDARD
BEGIN:DAYLIGHT
TZOFFSETFROM:-0500
TZOFFSETTO:-0400
TZNAME:EDT
DTSTART:20230312T070000
END:DAYLIGHT
BEGIN:STANDARD
TZOFFSETFROM:-0400
TZOFFSETTO:-0500
TZNAME:EST
DTSTART:20231105T060000
END:STANDARD
BEGIN:DAYLIGHT
TZOFFSETFROM:-0500
TZOFFSETTO:-0400
TZNAME:EDT
DTSTART:20240310T070000
END:DAYLIGHT
BEGIN:STANDARD
TZOFFSETFROM:-0400
TZOFFSETTO:-0500
TZNAME:EST
DTSTART:20241103T060000
END:STANDARD
END:VTIMEZONE
BEGIN:VEVENT
DTSTART;TZID=America/New_York:20230609T100000
DTEND;TZID=America/New_York:20230609T150000
DTSTAMP:20260423T045257
CREATED:20230608T210055Z
LAST-MODIFIED:20230608T220023Z
UID:2864-1686304800-1686322800@www.facaa.org
SUMMARY:Need Utility Assistance? We're Coming to Roswell\, GA
DESCRIPTION:Exciting news! We’re coming to your neighborhood! Dr. Grant and the team at FACAA will be at St. Andrews Catholic Church to assist and guide those eligible for utility assistance through the LIHEAP and LIHWAP programs. Be sure to check out the flyer for requirements. We encourage anyone who thinks they may be eligible to come take advantage of this opportunity.
URL:https://www.facaa.org/event/need-utility-assistance-were-coming-to-your-neighborhood/
LOCATION:St. Andrews Catholic Church\, 675 Riverdale Rd.\, Roswell\, GA\, 30075\, United States
ATTACH;FMTTYPE=image/png:https://www.facaa.org/wp-content/uploads/2023/06/Outreach-Flyer-June-9-Roswell.png
END:VEVENT
BEGIN:VEVENT
DTSTART;TZID=America/New_York:20230630T100000
DTEND;TZID=America/New_York:20230630T150000
DTSTAMP:20260423T045257
CREATED:20230608T215958Z
LAST-MODIFIED:20230608T215958Z
UID:2879-1688119200-1688137200@www.facaa.org
SUMMARY:Need Utility Assistance? We're Coming to College Park\, GA
DESCRIPTION:Exciting news! We’re coming to your neighborhood! Dr. Grant and the team at FACAA will be at Spread the Word Christian Ministries to assist and guide those eligible for utility assistance through the LIHEAP and LIHWAP programs. Be sure to check out the flyer for requirements. We encourage anyone who thinks they may be eligible to come take advantage of this opportunity.
URL:https://www.facaa.org/event/need-utility-assistance-were-coming-to-college-park-ga/
LOCATION:Spread the Word Christian Ministries\, 4626 Washington Rd.\, College Park\, GA\, 30349\, United States
ATTACH;FMTTYPE=image/png:https://www.facaa.org/wp-content/uploads/2023/06/College-Park-Flyer-1.png
END:VEVENT
END:VCALENDAR